BEGIN:VCALENDAR
VERSION:2.0
PRODID:-//eventon.com NONSGML v1.0//EN
BEGIN:VEVENT
UID:69e7adea10637
DTSTAMP:20260421T190338
DTSTART:20230420T203000Z
DTEND:20230421T040000Z
TZID:Pacific/Midway
LOCATION:Sala meeting Hotel Eden\,  Cinquale 
SUMMARY:I TUMORI URO-GENITALI\,  L’EVOLUZIONE DELLA TERAPIA
DESCRIPTION: Nel corso di questi ultimi anni abbiamo assistito  ad un progressivo miglioramento sia delle conoscenze di biologia molecolare che della terapia nel campo delle neoplasie uro-genitali. Questo ha permesso di proporre ai pazienti trattamenti efficaci ed innovativi\,  che hanno permesso di migliorarne la prognosi. Inoltre l’avvento dell’immunoterapia è oggi disponibile[..]
URL:https://www.gecoef.it/events/1833/
END:VEVENT
END:VCALENDAR